BEGIN:VCALENDAR
VERSION:2.0
PRODID:-//ChamberMaster//Event Calendar 2.0//EN
METHOD:PUBLISH
X-PUBLISHED-TTL:P3D
REFRESH-INTERVAL:P3D
CALSCALE:GREGORIAN
BEGIN:VEVENT
DTSTART:20260427T234500Z
DTEND:20260428T003000Z
X-MICROSOFT-CDO-ALLDAYEVENT:FALSE
SUMMARY:WERQ Fit- Lady Fit at West Michigan Elite Pom & Dance
DESCRIPTION:Get moving and dancing weekly at West Michigan Elite Pom & Dance! Shake up your workout routine with WERQ Fitness- a cardio dance class meant to raise both your heart rate and confidence! No dance experience\, no worries! WERQ offers the same choreography each week to promote coordination and confidence\, while offering modifications to include a challenge!\n\n\n\nSign up for a free trial class here: Free Trial Class
X-ALT-DESC;FMTTYPE=text/html:Get moving and dancing weekly at West Michigan Elite Pom &amp\; Dance! Shake up your workout routine with WERQ Fitness- a cardio dance class meant to raise both your heart rate and confidence! No dance experience\, no worries! WERQ offers the same choreography each week to promote coordination and confidence\, while offering modifications to include a challenge!<br />\n<br />\nSign up for a free trial class here: <a href="https://westmichiganelite1.dncestudios.com/get-started-new">Free Trial Class</a>
LOCATION:6841 Lake Michigan Dr. Allendale\, MI 49401
UID:e.1796.14206
SEQUENCE:3
DTSTAMP:20260423T011931Z
URL:http://business.allendalechamber.org/events/details/werq-fit-lady-fit-at-west-michigan-elite-pom-dance-04-27-2026-14206
END:VEVENT

END:VCALENDAR
