BEGIN:VCALENDAR
VERSION:2.0
PRODID:-//ChamberMaster//Event Calendar 2.0//EN
METHOD:PUBLISH
X-PUBLISHED-TTL:P3D
REFRESH-INTERVAL:P3D
CALSCALE:GREGORIAN
BEGIN:VEVENT
DTSTART:20250507T160000Z
DTEND:20250507T170000Z
X-MICROSOFT-CDO-ALLDAYEVENT:FALSE
SUMMARY:Allendale Rotary Club Meeting
DESCRIPTION:Allendale Rotary Club Meets Wednesdays at 12:00 PM\n\n\n\nWednesday\, May 7th Presentation:\n\nJoe Koenig\, Forensic Linquist\, MI State Police   Retired (Van Bullen\, Host)\n\nJoe Koenig is the Owner/Founder of KMI Investigations.  https://link.edgepilot.com/s/41e45b90/kxlhJ3BztkauYaR44ppgbw?u=https://www.kmiinvestigations.com/\n\nAmong other techniques\, a Forensic Linquist will analyze written or spoken language to determine its authenticity or meaning. This may involve analyzing a ransom note to determine if it was written by the kidnapper or a witness statement to determine if the witness is telling the truth.\n\nKMI Investigations\, LLC is a licensed and bonded Grand Rapids\, MI-based private and professional investigations company led by our founder\, Joe Koenig\, Forensic Linguist\, Certified Fraud Examiner (CFE)\, and author. KMI and Joe Koenig recently became a 2024 Expert Witness Award Winner!\n\n \nVision Statement\n\nThe vision of the Allendale Rotary Club is to enrich our community with compassionate service and the building of lasting relationships\n\n \n\nMission Statement\n\nThe mission of the Allendale Rotary Club is to engage our local community and beyond through service\, support and fellowship\n\n \n\nMotto:  Service Above Self
X-ALT-DESC;FMTTYPE=text/html:Allendale Rotary Club Meets Wednesdays at 12:00 PM<br />\n<br />\nWednesday\, May 7th Presentation:<br />\n<strong><span style="font-family:aptos\,sans-serif\;">Joe Koenig\, Forensic Linquist\, MI State Police</span></strong> &ndash\; Retired (Van Bullen\, Host)<br />\nJoe Koenig is the Owner/Founder of KMI Investigations.&nbsp\; <a data-linkid="d598626e-3d16-4b17-9443-65bb6456270c" href="https://link.edgepilot.com/s/a2941227/K3qvfrVKMU6cBwvtINmSmQ?u=https://links.clubrunner.email/ls/click?upn=u001.6f6nHae1WHC1Jsk7nRti84Y-2BD7Msn5sxteYywC1jBhxCIrfbOJQpOmvs4bU1WOwS_ptt_bmALDyykKAW3QuovNUxnZH1t8Y0SzTjcNT7TH1rHsldHwcIxEwXTJ74X-2FS-2Bn-2BYmFNEDl0FMJWKCoHanCu9JU81kehDU4CZDqLTmJoWTA4vhajcfbYvhTIyict7hOh9Q3hhNouO-2F-2FE1m0AR-2Fhw-2Fy-2F5194Oq4aCFFMK6MtMcQLQdpGUv0Z66sFE-2BZmlN7AIYmeih32QBVHNMINTAZXc58sWAnWq3F5o52TRrU1jJHrH1q-2FUAYpFV-2BqW0nsl9rP2rOTKkTZm4RqrKo-2BHnB-2B9RY-2FbF-2B7in9N31gBSvNSOSkPeVDcpKhUSTe67-2Bi8oPV5h03DhD-2FI1y98IExEcmbX-2FZP2xHibgYKO502c947R-2FxgtWPQjK53YUoM7d9SaQKKhpabU">https://link.edgepilot.com/s/41e45b90/kxlhJ3BztkauYaR44ppgbw?u=https://www.kmiinvestigations.com/</a><br />\nAmong other techniques\, a Forensic Linquist will analyze written or spoken language to determine its authenticity or meaning. This may involve analyzing a ransom note to determine if it was written by the kidnapper or a witness statement to determine if the witness is telling the truth.<br />\nKMI Investigations\, LLC is a licensed and bonded Grand Rapids\, MI-based private and professional investigations company led by our founder\, Joe Koenig\, Forensic Linguist\, Certified Fraud Examiner (CFE)\, and author. KMI and Joe Koenig recently became a 2024 Expert Witness Award Winner!<br />\n&nbsp\;\n<div font-size:="" margin-left:="" open="" text-align:=""><strong>Vision Statement</strong></div>\n\n<div font-size:="" margin-left:="" open="" text-align:="">The vision of the Allendale Rotary Club is to enrich our community with compassionate service and the building of lasting relationships</div>\n\n<div font-size:="" margin-left:="" open="" text-align:="">&nbsp\;</div>\n\n<div font-size:="" margin-left:="" open="" text-align:=""><strong>Mission Statement</strong></div>\n\n<div font-size:="" margin-left:="" open="" text-align:="">The mission of the Allendale Rotary Club is to engage our local community and beyond through service\, support and fellowship</div>\n\n<div font-size:="" margin-left:="" open="" text-align:="">&nbsp\;</div>\n\n<div font-size:="" margin-left:="" open="" text-align:="">Motto:&nbsp\; Service Above Self</div>\n
LOCATION:Peppino's Restaurant & Sports Grille 5065 Lake Michigan Dr. Allendale\, MI 49401
UID:e.1796.14120
SEQUENCE:3
DTSTAMP:20260421T101630Z
URL:https://business.allendalechamber.org/events/details/allendale-rotary-club-meeting-14120
END:VEVENT

END:VCALENDAR
