BEGIN:VCALENDAR
VERSION:2.0
PRODID:-//ChamberMaster//Event Calendar 2.0//EN
METHOD:PUBLISH
X-PUBLISHED-TTL:P3D
REFRESH-INTERVAL:P3D
CALSCALE:GREGORIAN
BEGIN:VEVENT
DTSTART:20250501T213000Z
DTEND:20250501T230000Z
X-MICROSOFT-CDO-ALLDAYEVENT:FALSE
SUMMARY:Basic Budgeting and Financial Literacy - Love INC and Honor Credit Union
DESCRIPTION:This is the second part of a 2 part course\, if you come for dinner at 5:30 we can get you up to speed for class starting at 6! FREE dinner provided and childcare available upon request. REGISTRATION REQUIRED
X-ALT-DESC;FMTTYPE=text/html:This is the second part of a 2 part course\, if you come for dinner at 5:30 we can get you up to speed for class starting at 6! FREE dinner provided and childcare available upon request. REGISTRATION REQUIRED
LOCATION:Second Church
UID:e.1796.14110
SEQUENCE:3
DTSTAMP:20260421T101941Z
URL:https://business.allendalechamber.org/events/details/basic-budgeting-and-financial-literacy-love-inc-and-honor-credit-union-14110
END:VEVENT

END:VCALENDAR
