BEGIN:VCALENDAR
VERSION:2.0
PRODID:-//ChamberMaster//Event Calendar 2.0//EN
METHOD:PUBLISH
X-PUBLISHED-TTL:P3D
REFRESH-INTERVAL:P3D
CALSCALE:GREGORIAN
BEGIN:VEVENT
DTSTART:20250508T213000Z
DTEND:20250508T230000Z
X-MICROSOFT-CDO-ALLDAYEVENT:FALSE
SUMMARY:Effective Communication in Relationships PART 1 - Love INC
DESCRIPTION:We are offering a FREE 2-part class on Effective Communication in Relationships\, you're not going to want to miss this! This class is 100% free and open to anyone. We provide a FREE meal and FREE childcare upon request! REGISTRATION IS REQUIRED!
X-ALT-DESC;FMTTYPE=text/html:We are offering a FREE 2-part class on Effective Communication in Relationships\, you&#39\;re not going to want to miss this! This class is 100% free and open to anyone. We provide a FREE meal and FREE childcare upon request! REGISTRATION IS REQUIRED!
LOCATION:Second Church
UID:e.1796.14111
SEQUENCE:3
DTSTAMP:20260421T100219Z
URL:https://business.allendalechamber.org/events/details/effective-communication-in-relationships-part-1-love-inc-14111
END:VEVENT

END:VCALENDAR
