BEGIN:VCALENDAR
VERSION:2.0
PRODID:-//ChamberMaster//Event Calendar 2.0//EN
METHOD:PUBLISH
X-PUBLISHED-TTL:P3D
REFRESH-INTERVAL:P3D
CALSCALE:GREGORIAN
BEGIN:VEVENT
DTSTART:20250503T133000Z
DTEND:20250503T140000Z
X-MICROSOFT-CDO-ALLDAYEVENT:FALSE
SUMMARY:Toddler & Me Dance Class
DESCRIPTION:Join us for this FREE dance class for Ages 3 and under!\n\nToddler & Me provides students with opportunities to explore the fundamentals of dance\, while engaging in fun games and exercises that stimulate the senses and help develop coordination\, all with the presence and assistance of a caregiver.
X-ALT-DESC;FMTTYPE=text/html:<span style="background-color:rgb(255\, 255\, 255)\; color:rgb(51\, 51\, 51)\; font-family:sans-serif\,arial\,verdana\,trebuchet ms\; font-size:13px">Join us for this FREE dance class for Ages 3 and under!</span><br />\n<span style="background-color:rgb(255\, 255\, 255)\; color:rgb(51\, 51\, 51)\; font-family:sans-serif\,arial\,verdana\,trebuchet ms\; font-size:13px">Toddler &amp\; Me provides students with opportunities to explore the fundamentals of dance\, while engaging in fun games and exercises that stimulate the senses and help develop coordination\, all with the presence and assistance of a caregiver.</span>
LOCATION:Lake Michigan Dance Academy
UID:e.1796.14104
SEQUENCE:3
DTSTAMP:20260421T101512Z
URL:https://business.allendalechamber.org/events/details/toddler-me-dance-class-05-03-2025-14104
END:VEVENT

END:VCALENDAR
