BEGIN:VCALENDAR
VERSION:2.0
PRODID:-//ChamberMaster//Event Calendar 2.0//EN
METHOD:PUBLISH
X-PUBLISHED-TTL:P3D
REFRESH-INTERVAL:P3D
CALSCALE:GREGORIAN
BEGIN:VEVENT
DTSTART:20250507T210000Z
DTEND:20250507T213000Z
X-MICROSOFT-CDO-ALLDAYEVENT:FALSE
SUMMARY:Toddler & Me Dance Class
DESCRIPTION:Join us for this FREE dance class for Ages 3 and under!\n\nToddler & Me provides students with opportunities to explore the fundamentals of dance\, while engaging in fun games and exercises that stimulate the senses and help develop coordination\, all with the presence and assistance of a caregiver.
X-ALT-DESC;FMTTYPE=text/html:Join us for this FREE dance class for Ages 3 and under!<br />\nToddler &amp\; Me provides students with opportunities to explore the fundamentals of dance\, while engaging in fun games and exercises that stimulate the senses and help develop coordination\, all with the presence and assistance of a caregiver.
LOCATION:Lake Michigan Dance Studio
UID:e.1796.14099
SEQUENCE:3
DTSTAMP:20260421T100505Z
URL:https://business.allendalechamber.org/events/details/toddler-me-dance-class-05-07-2025-14099
END:VEVENT

END:VCALENDAR
